BEGIN:VCALENDAR
VERSION:2.0
PRODID:-//WAWITAS - ECPv6.15.13//NONSGML v1.0//EN
CALSCALE:GREGORIAN
METHOD:PUBLISH
X-WR-CALNAME:WAWITAS
X-ORIGINAL-URL:https://wawitas.edu.pe
X-WR-CALDESC:Eventos para WAWITAS
REFRESH-INTERVAL;VALUE=DURATION:PT1H
X-Robots-Tag:noindex
X-PUBLISHED-TTL:PT1H
BEGIN:VTIMEZONE
TZID:America/Lima
BEGIN:STANDARD
TZOFFSETFROM:-0500
TZOFFSETTO:-0500
TZNAME:-05
DTSTART:20250101T000000
END:STANDARD
END:VTIMEZONE
BEGIN:VEVENT
DTSTART;TZID=America/Lima:20260307T000000
DTEND;TZID=America/Lima:20261015T000000
DTSTAMP:20260421T155021
CREATED:20250127T050322Z
LAST-MODIFIED:20260223T184640Z
UID:6137-1772841600-1792022400@wawitas.edu.pe
SUMMARY:Lectura para mujeres
DESCRIPTION:Acompañamos a las madres de San Benito de Carabayllo para el desarrollo de sus capacidades lectoras\, comunicativas y liderazgo desde los procesos de autoconocimiento y autoeducación que da la lectura. \nhttp://paypal.me/APIFAW \n 
URL:https://wawitas.edu.pe/event/de-situacion-enamorada/
ATTACH;FMTTYPE=image/jpeg:https://wawitas.edu.pe/wp-content/uploads/2026/02/web1-scaled.jpg
END:VEVENT
BEGIN:VEVENT
DTSTART;TZID=America/Lima:20260317T000000
DTEND;TZID=America/Lima:20261124T000000
DTSTAMP:20260421T155021
CREATED:20260223T185050Z
LAST-MODIFIED:20260223T185850Z
UID:8495-1773705600-1795478400@wawitas.edu.pe
SUMMARY:Lectura con Escolares
DESCRIPTION:Llevamos experiencias de lectura y libre y sesiones de mediación de lectura para estudiantes de escuelas nacionales. \nhttp://paypal.me/APIFAW
URL:https://wawitas.edu.pe/event/lectura-con-escolares/
ATTACH;FMTTYPE=image/jpeg:https://wawitas.edu.pe/wp-content/uploads/2026/01/web-15-scaled.jpg
END:VEVENT
END:VCALENDAR